BEGIN:VCALENDAR
VERSION:2.0
PRODID:-//Republicanos 10 SP - ECPv6.15.20//NONSGML v1.0//EN
CALSCALE:GREGORIAN
METHOD:PUBLISH
X-ORIGINAL-URL:https://republicanos10sp.org.br
X-WR-CALDESC:Eventos para Republicanos 10 SP
REFRESH-INTERVAL;VALUE=DURATION:PT1H
X-Robots-Tag:noindex
X-PUBLISHED-TTL:PT1H
BEGIN:VTIMEZONE
TZID:America/Sao_Paulo
BEGIN:STANDARD
TZOFFSETFROM:-0200
TZOFFSETTO:-0300
TZNAME:-03
DTSTART:20150222T020000
END:STANDARD
BEGIN:DAYLIGHT
TZOFFSETFROM:-0300
TZOFFSETTO:-0200
TZNAME:-02
DTSTART:20151018T030000
END:DAYLIGHT
BEGIN:STANDARD
TZOFFSETFROM:-0200
TZOFFSETTO:-0300
TZNAME:-03
DTSTART:20160221T020000
END:STANDARD
BEGIN:DAYLIGHT
TZOFFSETFROM:-0300
TZOFFSETTO:-0200
TZNAME:-02
DTSTART:20161016T030000
END:DAYLIGHT
BEGIN:STANDARD
TZOFFSETFROM:-0200
TZOFFSETTO:-0300
TZNAME:-03
DTSTART:20170219T020000
END:STANDARD
BEGIN:DAYLIGHT
TZOFFSETFROM:-0300
TZOFFSETTO:-0200
TZNAME:-02
DTSTART:20171015T030000
END:DAYLIGHT
BEGIN:STANDARD
TZOFFSETFROM:-0200
TZOFFSETTO:-0300
TZNAME:-03
DTSTART:20180218T020000
END:STANDARD
BEGIN:DAYLIGHT
TZOFFSETFROM:-0300
TZOFFSETTO:-0200
TZNAME:-02
DTSTART:20181104T030000
END:DAYLIGHT
END:VTIMEZONE
BEGIN:VEVENT
DTSTART;TZID=America/Sao_Paulo:20170401T083000
DTEND;TZID=America/Sao_Paulo:20170401T120000
DTSTAMP:20260419T125519
CREATED:20170329T195327Z
LAST-MODIFIED:20170329T195327Z
UID:29390-1491035400-1491048000@republicanos10sp.org.br
SUMMARY:I Fórum PRB Igualdade Racial
DESCRIPTION:
URL:https://republicanos10sp.org.br/agenda/i-forum-prb-igualdade-racial/
LOCATION:Auditório José Alencar – Sede do PRB em SP\, Rua Pires da Mota\, nº 399\, São Paulo\, SP\, Brasil
ATTACH;FMTTYPE=image/png:https://republicanos10sp.org.br/wp-content/uploads/2017/03/Fórum-PRB-Igualdade-Racial-1.png
END:VEVENT
BEGIN:VEVENT
DTSTART;TZID=America/Sao_Paulo:20170331T200000
DTEND;TZID=America/Sao_Paulo:20170331T230000
DTSTAMP:20260419T125519
CREATED:20170213T140456Z
LAST-MODIFIED:20170329T194435Z
UID:29019-1490990400-1491001200@republicanos10sp.org.br
SUMMARY:PRORROGADO: 1º Jantar do PRB Igualdade Racial SP
DESCRIPTION:EVENTO PRORROGRADO PARA NOVEMBRO. Mais informações em breve. \n  \nO Partido Republicano Brasileiro\, em nome da coordenação municipal do PRB Igualdade Racial em São Paulo\, tem a honra de convidá-lo para o primeiro jantar a ser realizado pelo movimento social\, com o tema “Os novos desafios e oportunidades do afroempreendedorismo”. \nSaiba como adquirir o seu convite : (11) 3342-5160 ou jantarigualdaderacial@gmail.com \n 
URL:https://republicanos10sp.org.br/agenda/1o-jantar-do-prb-igualdade-racial-sp/
LOCATION:Mansão Hasbaya\, Rua dos Franceses\, 518\, Bela Vista\, SP\, SP\, Brasil
ATTACH;FMTTYPE=image/png:https://republicanos10sp.org.br/wp-content/uploads/2017/02/Jantar-PRB-Igualdade-Racial-3.png
END:VEVENT
BEGIN:VEVENT
DTSTART;TZID=America/Sao_Paulo:20170331T163000
DTEND;TZID=America/Sao_Paulo:20170331T183000
DTSTAMP:20260419T125519
CREATED:20170329T194939Z
LAST-MODIFIED:20170329T195044Z
UID:29382-1490977800-1490985000@republicanos10sp.org.br
SUMMARY:Entrega de Homenagem a Deputada Federal Tia Eron
DESCRIPTION:
URL:https://republicanos10sp.org.br/agenda/entrega-de-homenagem-deus-federal-tia-eron/
LOCATION:Salão Nobre da Câmara Municipal de Arujá\, Rua Rodrigues Alves\, nº 51\, Centro\, Arujá\, SP\, Brasil
ATTACH;FMTTYPE=image/png:https://republicanos10sp.org.br/wp-content/uploads/2017/03/Homenagem-Tia-Eron-1.png
END:VEVENT
BEGIN:VEVENT
DTSTART;VALUE=DATE:20161002
DTEND;VALUE=DATE:20161003
DTSTAMP:20260419T125519
CREATED:20161001T163102Z
LAST-MODIFIED:20161001T163102Z
UID:28231-1475366400-1475452799@republicanos10sp.org.br
SUMMARY:Eleições 2016: 1º Turno
DESCRIPTION:
URL:https://republicanos10sp.org.br/agenda/eleicoes-2016-1o-turno/
LOCATION:SP
CATEGORIES:Nacional
END:VEVENT
END:VCALENDAR